BEGIN:VCALENDAR
VERSION:2.0
PRODID:-//Deepest Darkest: Rock Music - ECPv6.15.20//NONSGML v1.0//EN
CALSCALE:GREGORIAN
METHOD:PUBLISH
X-ORIGINAL-URL:https://deepest-darkest.com
X-WR-CALDESC:Events for Deepest Darkest: Rock Music
REFRESH-INTERVAL;VALUE=DURATION:PT1H
X-Robots-Tag:noindex
X-PUBLISHED-TTL:PT1H
BEGIN:VTIMEZONE
TZID:America/Los_Angeles
BEGIN:DAYLIGHT
TZOFFSETFROM:-0800
TZOFFSETTO:-0700
TZNAME:PDT
DTSTART:20180311T100000
END:DAYLIGHT
BEGIN:STANDARD
TZOFFSETFROM:-0700
TZOFFSETTO:-0800
TZNAME:PST
DTSTART:20181104T090000
END:STANDARD
BEGIN:DAYLIGHT
TZOFFSETFROM:-0800
TZOFFSETTO:-0700
TZNAME:PDT
DTSTART:20190310T100000
END:DAYLIGHT
BEGIN:STANDARD
TZOFFSETFROM:-0700
TZOFFSETTO:-0800
TZNAME:PST
DTSTART:20191103T090000
END:STANDARD
BEGIN:DAYLIGHT
TZOFFSETFROM:-0800
TZOFFSETTO:-0700
TZNAME:PDT
DTSTART:20200308T100000
END:DAYLIGHT
BEGIN:STANDARD
TZOFFSETFROM:-0700
TZOFFSETTO:-0800
TZNAME:PST
DTSTART:20201101T090000
END:STANDARD
BEGIN:DAYLIGHT
TZOFFSETFROM:-0800
TZOFFSETTO:-0700
TZNAME:PDT
DTSTART:20210314T100000
END:DAYLIGHT
BEGIN:STANDARD
TZOFFSETFROM:-0700
TZOFFSETTO:-0800
TZNAME:PST
DTSTART:20211107T090000
END:STANDARD
BEGIN:DAYLIGHT
TZOFFSETFROM:-0800
TZOFFSETTO:-0700
TZNAME:PDT
DTSTART:20220313T100000
END:DAYLIGHT
BEGIN:STANDARD
TZOFFSETFROM:-0700
TZOFFSETTO:-0800
TZNAME:PST
DTSTART:20221106T090000
END:STANDARD
BEGIN:DAYLIGHT
TZOFFSETFROM:-0800
TZOFFSETTO:-0700
TZNAME:PDT
DTSTART:20230312T100000
END:DAYLIGHT
BEGIN:STANDARD
TZOFFSETFROM:-0700
TZOFFSETTO:-0800
TZNAME:PST
DTSTART:20231105T090000
END:STANDARD
BEGIN:DAYLIGHT
TZOFFSETFROM:-0800
TZOFFSETTO:-0700
TZNAME:PDT
DTSTART:20240310T100000
END:DAYLIGHT
BEGIN:STANDARD
TZOFFSETFROM:-0700
TZOFFSETTO:-0800
TZNAME:PST
DTSTART:20241103T090000
END:STANDARD
BEGIN:DAYLIGHT
TZOFFSETFROM:-0800
TZOFFSETTO:-0700
TZNAME:PDT
DTSTART:20250309T100000
END:DAYLIGHT
BEGIN:STANDARD
TZOFFSETFROM:-0700
TZOFFSETTO:-0800
TZNAME:PST
DTSTART:20251102T090000
END:STANDARD
END:VTIMEZONE
BEGIN:VEVENT
DTSTART;TZID=America/Los_Angeles:20240420T200000
DTEND;TZID=America/Los_Angeles:20240420T233000
DTSTAMP:20260421T205225
CREATED:20240301T020019Z
LAST-MODIFIED:20240405T055544Z
UID:983-1713643200-1713655800@deepest-darkest.com
SUMMARY:Deepest Darkest at Hawthorne Hideaway with Big Joke and Leg Locked
DESCRIPTION:Big Joke (demo release)\, Leg Locked (first show) and Deepest Darkest are gonna make your 4/20 one to remember. $8 entry\, 21+ only. DD goes on second. Hope you can make it!
URL:https://deepest-darkest.com/shows/deepest-darkest-at-hawthorne-hideaway/
LOCATION:Hawthorne Hideaway\, 2221 SE Hawthorne Blvd\, Portland\, OR\, 97214\, United States
CATEGORIES:Full Band
ATTACH;FMTTYPE=image/jpeg:https://deepest-darkest.com/wp-content/uploads/2024/02/429868855_1415376342402331_6091992987961336166_n.jpg
END:VEVENT
BEGIN:VEVENT
DTSTART;TZID=America/Los_Angeles:20231209T200000
DTEND;TZID=America/Los_Angeles:20231209T233000
DTSTAMP:20260421T205225
CREATED:20230823T173932Z
LAST-MODIFIED:20230923T224555Z
UID:940-1702152000-1702164600@deepest-darkest.com
SUMMARY:Deepest Darkest at Alberta Street Pub with Vonnie Kyle and Falcon Heart
DESCRIPTION:Deepest Darkest live rock show (full band) Saturday\, December 9th 8pm at Alberta Street Pub with Vonnie Kyle and Falcon Heart. You’re gonna wanna put this on your calendar! The night kicks off right at 8pm with Falcon Heart\, then Vonnie Kyle\, and finally\, Deepest Darkest. Make sure to scope out Alberta Street Pub’s menu ahead of time so your tum tum is satisfied when the rock begins. \n\n			\n				\n			\n				\n				Falcon Heart\n				\n			\n				\n			\n				\n				Vonnie Kyle\n				\n			\n				\n			\n				\n				Deepest Darkest\n				\n		\n\nGet some merch ahead of the show!
URL:https://deepest-darkest.com/shows/deepest-darkest-at-alberta-street-pub/
LOCATION:Alberta Street Pub\, 1036 NE Alberta St.\, Portland\, OR\, 97211\, United States
CATEGORIES:Full Band,Shows
ORGANIZER;CN="Deepest Darkest":MAILTO:secrets@deepest-darkest.com
END:VEVENT
BEGIN:VEVENT
DTSTART;TZID=America/Los_Angeles:20231118T200000
DTEND;TZID=America/Los_Angeles:20231118T233000
DTSTAMP:20260421T205225
CREATED:20231008T023919Z
LAST-MODIFIED:20231111T221424Z
UID:965-1700337600-1700350200@deepest-darkest.com
SUMMARY:Deepest Darkest at White Eagle with City of Echo and Rum River Cult
DESCRIPTION:21+ rock show with buds\, Rum River Cult and City of Echo. RRC kicks the show off at 8pm\, then DD\, the CoE. Get your tickets here. Gon be rad!
URL:https://deepest-darkest.com/shows/deepest-darkest-at-white-eagle-with-city-of-echo-and-rum-river-cult/
LOCATION:White Eagle Saloon\, 836 N Russell St\, Portland\, OR\, 97227\, United States
CATEGORIES:Full Band
END:VEVENT
BEGIN:VEVENT
DTSTART;TZID=America/Los_Angeles:20231111T160000
DTEND;TZID=America/Los_Angeles:20231111T180000
DTSTAMP:20260421T205225
CREATED:20230823T173516Z
LAST-MODIFIED:20231111T220346Z
UID:936-1699718400-1699725600@deepest-darkest.com
SUMMARY:DD Duo at Havalina - Acoustic
DESCRIPTION:Deepest Darkest Duo playing a free acoustic set 4-6pm at our fave place for a cocktail – Havalina! Kids and dogs welcome until 9pm
URL:https://deepest-darkest.com/shows/dd-duo-at-havalina-acoustic/
LOCATION:Havalina\, 8927 N. Lombard St.\, Portland\, OR\, 97203\, United States
CATEGORIES:Acoustic,Shows
ORGANIZER;CN="Deepest Darkest":MAILTO:secrets@deepest-darkest.com
END:VEVENT
BEGIN:VEVENT
DTSTART;TZID=America/Los_Angeles:20231028T160000
DTEND;TZID=America/Los_Angeles:20231028T190000
DTSTAMP:20260421T205225
CREATED:20230819T231737Z
LAST-MODIFIED:20231019T033000Z
UID:934-1698508800-1698519600@deepest-darkest.com
SUMMARY:Happy Hour with Deepest Darkest & The Frequence at Alberta Street Pub
DESCRIPTION:An all-ages happy hour rock show at Alberta Street Pub with our buds\, The Frequence. Show kicks off at 4pm with The Frequence\, then DD at 5pm. Dress up is encouraged\, but not required. Hope to see you there!
URL:https://deepest-darkest.com/shows/happy-hour-with-deepest-darkest-the-frequence-at-alberta-street-pub/
LOCATION:Alberta Street Pub\, 1036 NE Alberta St.\, Portland\, OR\, 97211\, United States
CATEGORIES:Full Band,Shows
ATTACH;FMTTYPE=image/jpeg:https://deepest-darkest.com/wp-content/uploads/2023/08/Frequence_ASP_IG_102823.jpg
ORGANIZER;CN="Deepest Darkest":MAILTO:secrets@deepest-darkest.com
END:VEVENT
BEGIN:VEVENT
DTSTART;TZID=America/Los_Angeles:20231014T150000
DTEND;TZID=America/Los_Angeles:20231014T160000
DTSTAMP:20260421T205225
CREATED:20230914T021532Z
LAST-MODIFIED:20231001T201324Z
UID:945-1697295600-1697299200@deepest-darkest.com
SUMMARY:DD Duo at OCB - Acoustic
DESCRIPTION:It’s The Celebrators last show in town. Nate and Nat will be rocking the farewell party at OCB under the heated\, covered patio area. All ages\, too. It’s gonna be a hoot! \nJust look at this rad place!
URL:https://deepest-darkest.com/shows/dd-duo-at-ocb-acoustic/
LOCATION:Oregon City Brewing\, 1401 Washington Street\, Oregon City\, OR\, 97045\, United States
CATEGORIES:Acoustic
ATTACH;FMTTYPE=image/png:https://deepest-darkest.com/wp-content/uploads/2023/09/image0.png
END:VEVENT
BEGIN:VEVENT
DTSTART;TZID=America/Los_Angeles:20230804T210000
DTEND;TZID=America/Los_Angeles:20230804T230000
DTSTAMP:20260421T205225
CREATED:20230530T235045Z
LAST-MODIFIED:20230530T235045Z
UID:930-1691182800-1691190000@deepest-darkest.com
SUMMARY:Live Solo Acoustic Set: Haymaker
DESCRIPTION:A rare acoustic solo set from Nate at Haymaker. Sharing the bill are rad buds\, When We Met. More details coming.
URL:https://deepest-darkest.com/shows/live-solo-acoustic-set-haymaker/
LOCATION:Haymaker Bar & Eatery\, 1233 N Killingsworth\, Portland\, OR\, 97217\, United States
CATEGORIES:Shows
END:VEVENT
BEGIN:VEVENT
DTSTART;TZID=America/Los_Angeles:20230624T190000
DTEND;TZID=America/Los_Angeles:20230624T210000
DTSTAMP:20260421T205225
CREATED:20230205T043135Z
LAST-MODIFIED:20230304T235621Z
UID:873-1687633200-1687640400@deepest-darkest.com
SUMMARY:Live All Ages Show: Oregon City Brewing
DESCRIPTION:Free\, all ages show at OCB! We love this place. Deepest Darkest will be rocking in the new outdoor patio area. There are multiple food carts\, places to sit\, and (duh) beer! Come out and join us.
URL:https://deepest-darkest.com/shows/live-all-ages-show-oregon-city-brewing/
LOCATION:Oregon City Brewing\, 1401 Washington Street\, Oregon City\, OR\, 97045\, United States
CATEGORIES:Shows
END:VEVENT
BEGIN:VEVENT
DTSTART;TZID=America/Los_Angeles:20230526T200000
DTEND;TZID=America/Los_Angeles:20230526T233000
DTSTAMP:20260421T205225
CREATED:20230122T221412Z
LAST-MODIFIED:20230507T165602Z
UID:857-1685131200-1685143800@deepest-darkest.com
SUMMARY:Live Show: Deepest Darkest at World Famous Kenton Club
DESCRIPTION:Live rock for the win! If you haven’t been to the World Famous Kenton Club in a while\, things have really gotten rad. The sound system has been upgraded\, and their patio is fan-f’ing-tastic. We’re super excited to play with the amazing Starover Blue\, and new friends\, Phantom Note. Doors at 8pm\, show at 9pm. Dress provocatively!
URL:https://deepest-darkest.com/shows/live-show-deepest-darkest-at-world-famous-kenton-club/
LOCATION:Kenton Club\, 2025 N Kilpatrick St.\, Portland\, OR\, 97217\, United States
CATEGORIES:Shows
ORGANIZER;CN="Deepest Darkest":MAILTO:secrets@deepest-darkest.com
END:VEVENT
BEGIN:VEVENT
DTSTART;TZID=America/Los_Angeles:20230331T210000
DTEND;TZID=America/Los_Angeles:20230331T233000
DTSTAMP:20260421T205225
CREATED:20221219T035653Z
LAST-MODIFIED:20230314T044941Z
UID:826-1680296400-1680305400@deepest-darkest.com
SUMMARY:Live Show: Deepest Darkest at Alberta Street Pub
DESCRIPTION:Live show with Redray Frazier and The Frequence. It’s The Frequence’s album release party! Come celebrate with us. Redray kicks it off at 9pm sharp\, then DD\, then the belles of the ball\, The Frequence! 21+ only.
URL:https://deepest-darkest.com/shows/live-show-deepest-darkest-at-alberta-street-pub/
LOCATION:Alberta Street Pub\, 1036 NE Alberta St.\, Portland\, OR\, 97211\, United States
CATEGORIES:Shows
END:VEVENT
BEGIN:VEVENT
DTSTART;TZID=America/Los_Angeles:20230217T203000
DTEND;TZID=America/Los_Angeles:20230217T233000
DTSTAMP:20260421T205225
CREATED:20221222T043943Z
LAST-MODIFIED:20230205T043227Z
UID:830-1676665800-1676676600@deepest-darkest.com
SUMMARY:Cover Your Hearts - A Night of Guilty Pleasure
DESCRIPTION:Fifteen years after the first Cover Your Hearts show\, we’re bringing back CYH veterans Lael Alderman\, RISLEY\, The Frequence\, Camp Crush & Deepest Darkest! \nSince its launch in 2008 by local shoegazers Charmparticles\, CYH has provided local musicians and fans a way to give back to their community. Proceeds from this year’s show will benefit the Jeremy Wilson Foundation\, a local charity dedicated to providing emergency financial assistance to & improving the overall well-being of musicians & their families during times of medical crisis. \nCYH pairs local musicians with 80s (& the occasional 90s) songs about love\, breaking up\, & …getting intimate. Past performances like Bryan Free’s now legendary Pat Benatar/Linda Ronstadt/Yes set from 2010\, Dr. Theopolis’ touching rendition of “More Than Words”\, Jaycob Van Auken’s shirt-ripping cover of Foreigner’s “Hot Blooded”\, Derby’s sultry “I Wanna Sex You Up” & Metal Bear’s raucous version of “Girls\, Girls\, Girls” keep us coming back for more year after year. \nThere is NO SERVICE FEES for buying tickets online for the show. This means that 100% of your ticket purchases go directly to supporting the JWF Musician Health & Services Program. Your support makes music!
URL:https://deepest-darkest.com/shows/cover-your-hearts-a-night-of-guilty-pleasure/
LOCATION:The Get Down\, 615 SE Alder\, Portland\, OR\, 97214\, United States
CATEGORIES:Shows
ATTACH;FMTTYPE=image/png:https://deepest-darkest.com/wp-content/uploads/2022/12/CYH23FBEventCoverPhoto.png
ORGANIZER;CN="Deepest Darkest":MAILTO:secrets@deepest-darkest.com
END:VEVENT
BEGIN:VEVENT
DTSTART;TZID=America/Los_Angeles:20221202T210000
DTEND;TZID=America/Los_Angeles:20221202T230000
DTSTAMP:20260421T205225
CREATED:20221018T002718Z
LAST-MODIFIED:20221119T034510Z
UID:788-1670014800-1670022000@deepest-darkest.com
SUMMARY:Dec 2nd | Deepest Darkest | Firkin Tavern | with Camp Crush and The Celebrators
DESCRIPTION:Deepest Darkest\, Camp Crush and The Celebrators live at Firkin Tavern. It should be a dang old hoot with our fantastic friends. Will you be our fantastic friend too? We’ll have some new shirts for sale too!
URL:https://deepest-darkest.com/shows/dec-2nd-deepest-darkest-firkin-tavern/
LOCATION:Firkin Tavern\, 1937 SE 11th Ave\, Portland\, OR\, 97214\, United States
CATEGORIES:Shows
ATTACH;FMTTYPE=image/png:https://deepest-darkest.com/wp-content/uploads/2022/11/2022-12-02_Firkin_webbanner.png
END:VEVENT
BEGIN:VEVENT
DTSTART;TZID=America/Los_Angeles:20221029T160000
DTEND;TZID=America/Los_Angeles:20221029T180000
DTSTAMP:20260421T205225
CREATED:20220925T195230Z
LAST-MODIFIED:20221018T002355Z
UID:743-1667059200-1667066400@deepest-darkest.com
SUMMARY:Oct 29th | Deepest Darkest | Alberta Street Pub Happy Hour Show | All Ages
DESCRIPTION:All ages happy hour show with The Frequence at Alberta Street Pub. Show starts at 4pm sharp. $10 at the door. \nShow Poster | Alberta Street Pub | 2022-10-17 | Deepest Darkest and The Frequence
URL:https://deepest-darkest.com/shows/oct-29th-deepest-darkest-alberta-street-pub-happy-hour-show-all-ages/
LOCATION:Alberta Street Pub\, 1036 NE Alberta St.\, Portland\, OR\, 97211\, United States
CATEGORIES:Shows
ATTACH;FMTTYPE=image/png:https://deepest-darkest.com/wp-content/uploads/2022/09/showbanner-2022-10-29.png
ORGANIZER;CN="Deepest Darkest":MAILTO:secrets@deepest-darkest.com
END:VEVENT
BEGIN:VEVENT
DTSTART;TZID=America/Los_Angeles:20220603T180000
DTEND;TZID=America/Los_Angeles:20220603T200000
DTSTAMP:20260421T205225
CREATED:20220504T014509Z
LAST-MODIFIED:20220929T025049Z
UID:658-1654279200-1654286400@deepest-darkest.com
SUMMARY:June 3rd | Deepest Darkest ALBUM RELEASE show at the World Famous Kenton Club
DESCRIPTION:We’re releasing our 3rd album\, ‘EP No. 3’ on the 3rd day of June (and\, as you know\, June is the sixth month of the year\, and half of six is three). To celebrate the event\, we’ve booked the world famous Kenton Club Patio for an outdoor celebration. Our new buds\, Double Play will be opening the set with some rad guitar rock. It’s a match made in New Haven! Hope you can make it\, Mom! \nShow Poster | Kenton Club | | 2022-06-03 | Deepest Darkest and Double Play
URL:https://deepest-darkest.com/shows/deepest-darkest-album-release-show-june-3rd-at-the-world-famous-kenton-club/
LOCATION:OR
CATEGORIES:Shows
ATTACH;FMTTYPE=image/png:https://deepest-darkest.com/wp-content/uploads/2022/05/2022-06-03-Kenton_Club_Patio.png
END:VEVENT
BEGIN:VEVENT
DTSTART;TZID=America/Los_Angeles:20220503T180000
DTEND;TZID=America/Los_Angeles:20220503T210000
DTSTAMP:20260421T205225
CREATED:20220427T013636Z
LAST-MODIFIED:20220501T004504Z
UID:674-1651600800-1651611600@deepest-darkest.com
SUMMARY:May 3rd | Alberta Street Pub with Deepest Darkest\, Crystal Canopy\, Redray Frazier & Ezra Holbrook
DESCRIPTION:All ages early evening Tuesday rock show with our old buds\, Ezra & Redray…and new buds\, Crystal Canopy. DD will be on second. Grab a burg. Drink a drink. Rock with us. Hope you can make it!
URL:https://deepest-darkest.com/shows/alberta-street-pub-with-deepest-darkest-crystal-canopy-redray-frazier-ezra-holbrook/
LOCATION:Alberta Street Pub\, 1036 NE Alberta St.\, Portland\, OR\, 97211\, United States
CATEGORIES:Shows
ATTACH;FMTTYPE=image/png:https://deepest-darkest.com/wp-content/uploads/2022/04/2022-05-03-Alberta_Street_Pub.png
END:VEVENT
BEGIN:VEVENT
DTSTART;TZID=America/Los_Angeles:20220430T210000
DTEND;TZID=America/Los_Angeles:20220430T230000
DTSTAMP:20260421T205225
CREATED:20220328T002321Z
LAST-MODIFIED:20220427T014924Z
UID:629-1651352400-1651359600@deepest-darkest.com
SUMMARY:cancelled - Deepest Darkest and Camp Crush live at Haymaker\, April 30th
DESCRIPTION:Update 2022-4-28:\nHey gang\, sorry\, but Camp Crush and Deepest Darkest won’t be playing at Haymaker due to some unforeseen logistical issues. You should totally go and check out the joint\, though. Have a couple beverages…slam some food…make a night of it! \nDeepest Darkest will be ringing in the new live music era with pop besties\, Camp Crush Saturday\, April 30th at Haymaker Bar & Eatery. For Deepest Darkest\, it’s been a 2+ year hiatus from any public performances. This will be the first show for new bassist\, Chris Nelson\, and the debut of tunes from their upcoming release\, out May 31st\, entitled “EP No. 3”. \nCheck out some Deepest Darkest music!
URL:https://deepest-darkest.com/shows/dd-lands-a-haymaker/
LOCATION:Haymaker Bar & Eatery\, 1233 N Killingsworth\, Portland\, OR\, 97217\, United States
CATEGORIES:Shows
ATTACH;FMTTYPE=image/jpeg:https://deepest-darkest.com/wp-content/uploads/2022/03/DD_20220403_candid.jpeg
ORGANIZER;CN="Deepest Darkest":MAILTO:secrets@deepest-darkest.com
END:VEVENT
BEGIN:VEVENT
DTSTART;TZID=America/Los_Angeles:20210206T190000
DTEND;TZID=America/Los_Angeles:20210206T200000
DTSTAMP:20260421T205225
CREATED:20210204T203850Z
LAST-MODIFIED:20220405T012212Z
UID:546-1612638000-1612641600@deepest-darkest.com
SUMMARY:Nat and Nate on Facebook Live
DESCRIPTION:Going live on Facebook for a Nat and Nate Deepest Darkest Duo acoustic set. Tune in and have some fun with us!
URL:https://deepest-darkest.com/shows/nat-and-nate-on-facebook-live/
LOCATION:Facebook Live
CATEGORIES:Livestream
ORGANIZER;CN="Deepest Darkest":MAILTO:secrets@deepest-darkest.com
END:VEVENT
BEGIN:VEVENT
DTSTART;TZID=America/Los_Angeles:20201030T180000
DTEND;TZID=America/Los_Angeles:20201030T220000
DTSTAMP:20260421T205225
CREATED:20201001T224202Z
LAST-MODIFIED:20201016T164239Z
UID:510-1604080800-1604095200@deepest-darkest.com
SUMMARY:Deepest Darkest Duo opening for Camp Crush and The Frequence
DESCRIPTION:Nat and Nate will be acoustically opening the show and your heart 10/30 at Alberta Street Pub’s outdoor lounge. Friends Camp Crush and The Frequence will be performing as well. Wear a mask….and some deodorant\, you dirty hippie! Show starts at 6pm…$12 at the door. Get tickets here. \n#comethrough #pdxmusic #DDD
URL:https://deepest-darkest.com/shows/deepest-darkest-duo-opening-for-camp-crush-and-the-frequence/
LOCATION:Alberta Street Pub\, 1036 NE Alberta St.\, Portland\, OR\, 97211\, United States
CATEGORIES:Shows
ATTACH;FMTTYPE=image/jpeg:https://deepest-darkest.com/wp-content/uploads/2019/03/52401413_173738906941748_6961017983598767330_n.jpg
END:VEVENT
BEGIN:VEVENT
DTSTART;TZID=America/Los_Angeles:20200815T080000
DTEND;TZID=America/Los_Angeles:20200815T170000
DTSTAMP:20260421T205225
CREATED:20200217T170219Z
LAST-MODIFIED:20200819T201131Z
UID:404-1597478400-1597510800@deepest-darkest.com
SUMMARY:cancelled - Alberta St. Pub
DESCRIPTION:More details soon.
URL:https://deepest-darkest.com/shows/alberta-st-pub/
LOCATION:Alberta Street Pub\, 1036 NE Alberta St.\, Portland\, OR\, 97211\, United States
CATEGORIES:Shows
ORGANIZER;CN="Deepest Darkest":MAILTO:secrets@deepest-darkest.com
END:VEVENT
BEGIN:VEVENT
DTSTART;TZID=America/Los_Angeles:20200718T210000
DTEND;TZID=America/Los_Angeles:20200718T233000
DTSTAMP:20260421T205225
CREATED:20200217T170012Z
LAST-MODIFIED:20200629T185532Z
UID:402-1595106000-1595115000@deepest-darkest.com
SUMMARY:cancelled - Alberta Street Summer Bash
DESCRIPTION:More details coming.
URL:https://deepest-darkest.com/shows/alberta-street-summer-bash/
LOCATION:Alberta Street Pub\, 1036 NE Alberta St.\, Portland\, OR\, 97211\, United States
CATEGORIES:Shows
ORGANIZER;CN="Deepest Darkest":MAILTO:secrets@deepest-darkest.com
END:VEVENT
BEGIN:VEVENT
DTSTART;TZID=America/Los_Angeles:20200529T200000
DTEND;TZID=America/Los_Angeles:20200529T220000
DTSTAMP:20260421T205225
CREATED:20200217T165748Z
LAST-MODIFIED:20200629T185555Z
UID:400-1590782400-1590789600@deepest-darkest.com
SUMMARY:cancelled - Firkin Tavern with Friends
DESCRIPTION:Rock show at our favorite local hang. A taste of ‘old Portland’. More details TBA.
URL:https://deepest-darkest.com/shows/firkin-tavern-with-friends/
LOCATION:Firkin Tavern\, 1937 SE 11th Ave\, Portland\, OR\, 97214\, United States
CATEGORIES:Shows
ORGANIZER;CN="Deepest Darkest":MAILTO:secrets@deepest-darkest.com
END:VEVENT
BEGIN:VEVENT
DTSTART;TZID=America/Los_Angeles:20200124T200000
DTEND;TZID=America/Los_Angeles:20200124T230000
DTSTAMP:20260421T205225
CREATED:20191206T050934Z
LAST-MODIFIED:20200106T222438Z
UID:365-1579896000-1579906800@deepest-darkest.com
SUMMARY:Firkin Tavern - Camp Crush | Rum River Cult | Deepest Darkest
DESCRIPTION:Rad show where everybody knows your name. The Firkin is a throwback tavern from a simpler time in Portland. You’ll have a great time. Oh\, and our friends\, Camp Crush and Rum River Cult are joining us to make it an extra special night. \nHugs and Kisses\, Yallz! \nDD
URL:https://deepest-darkest.com/shows/firkin-tavern-camp-crush-rum-river-cult-deepest-darkest/
LOCATION:Firkin Tavern\, 1937 SE 11th Ave\, Portland\, OR\, 97214\, United States
CATEGORIES:Shows
ORGANIZER;CN="Deepest Darkest":MAILTO:secrets@deepest-darkest.com
END:VEVENT
BEGIN:VEVENT
DTSTART;TZID=America/Los_Angeles:20191101T210000
DTEND;TZID=America/Los_Angeles:20191101T233000
DTSTAMP:20260421T205225
CREATED:20190506T223849Z
LAST-MODIFIED:20191028T220421Z
UID:276-1572642000-1572651000@deepest-darkest.com
SUMMARY:Deepest Darkest\, The Celebrators\, and The Frequence at Alberta St. Pub - Halloween Show!
DESCRIPTION:Get your costume on for this rock show with buds\, The Celebrators\, and The Frequence. 21+ only. Let’s get sexy! \nThe Frequence\, Portland\, OR\nThe Celebrators\, Portland\, OR
URL:https://deepest-darkest.com/shows/deepest-darkest-jonah-and-the-frequence-at-alberta-st-pub-halloween-show/
LOCATION:Alberta Street Pub\, 1036 NE Alberta St.\, Portland\, OR\, 97211\, United States
CATEGORIES:Shows
ATTACH;FMTTYPE=image/png:https://deepest-darkest.com/wp-content/uploads/2019/05/DD-Frequence-Celebrators-Alberta-2019-11-1-Poster.png
ORGANIZER;CN="Deepest Darkest":MAILTO:secrets@deepest-darkest.com
END:VEVENT
BEGIN:VEVENT
DTSTART;TZID=America/Los_Angeles:20190726T210000
DTEND;TZID=America/Los_Angeles:20190726T233000
DTSTAMP:20260421T205225
CREATED:20190407T223600Z
LAST-MODIFIED:20190715T024726Z
UID:267-1564174800-1564183800@deepest-darkest.com
SUMMARY:Deepest Darkest\, Camp Crush\, and Billie Gale at Alberta Street Pub
DESCRIPTION:Our PDX buddies\, Camp Crush will be joining us and Billie Gale for a special Friday night show at Alberta Street Pub. It’s going to be a night to remember\, so bring your polaroids and portable cassette recorders. Camp Crush kicks it off at 9pm sharp\, followed by Billie Gale at 10pm\, then Deepest Darkest at 11pm. \n\nBillie Gale from Oakland\, CA\nCamp Crush from Portland\, OR
URL:https://deepest-darkest.com/shows/deepest-darkest-and-freedy-johnston-at-alberta-street-pub/
LOCATION:Alberta Street Pub\, 1036 NE Alberta St.\, Portland\, OR\, 97211\, United States
ORGANIZER;CN="Deepest Darkest":MAILTO:secrets@deepest-darkest.com
END:VEVENT
BEGIN:VEVENT
DTSTART;TZID=America/Los_Angeles:20190712T210000
DTEND;TZID=America/Los_Angeles:20190712T230000
DTSTAMP:20260421T205225
CREATED:20190407T223415Z
LAST-MODIFIED:20190617T231019Z
UID:264-1562965200-1562972400@deepest-darkest.com
SUMMARY:Deepest Darkest and The Hugs at Laurelthirst (acoustic)
DESCRIPTION:Let us strip for you – strip down the music to the meaty\, songy parts. Nat and Nate will be putting together a set of oldies\, newbies\, covers\, and soon-to-be-releasies. On the bill will be our longtime pals\, The Hugs…basically Portland rock royalty. You will not regret this unique early evening of music.
URL:https://deepest-darkest.com/shows/deepest-darkest-and-the-hugs-at-laurelthirst-acoustic/
LOCATION:Laurelthirst\, 2958 NE Glisan St.\, Portland\, OR\, 97232\, United States
ORGANIZER;CN="Deepest Darkest":MAILTO:secrets@deepest-darkest.com
END:VEVENT
BEGIN:VEVENT
DTSTART;TZID=America/Los_Angeles:20190528T210000
DTEND;TZID=America/Los_Angeles:20190528T233000
DTSTAMP:20260421T205225
CREATED:20190327T183843Z
LAST-MODIFIED:20190506T231844Z
UID:256-1559077200-1559086200@deepest-darkest.com
SUMMARY:Doug Fir Loung for VanDordrecht Album Release
DESCRIPTION:Our long-time friend\, Ryan VanDordrecht is releasing a new album\, and we’re honored to be on the bill with him at his release show May 28th at Doug Fir Lounge. Also on the bill is long time friends\, The Loved….so yeah\, this will be pretty awesome.
URL:https://deepest-darkest.com/shows/doug-fir-loung-for-ryan-vandordrecht-album-release/
LOCATION:Doug Fir Lounge\, 830 E Burnside St.\, Portland\, OR\, 97214\, United States
END:VEVENT
BEGIN:VEVENT
DTSTART;TZID=America/Los_Angeles:20190419T200000
DTEND;TZID=America/Los_Angeles:20190419T233000
DTSTAMP:20260421T205225
CREATED:20190322T152520Z
LAST-MODIFIED:20190401T233010Z
UID:250-1555704000-1555716600@deepest-darkest.com
SUMMARY:The Library at Growler's Taproom with The Breaking
DESCRIPTION:THE BREAKING \nAlt rock revivalists The Breaking stepped straight out of 1995. Mining the rich soundscape of mid-’90s guitar pop\, the band draws inspiration from seminal acts like Failure\, R.E.M.\, Soundgarden and early Radiohead\, where brooding introspection gives way to anthemic choruses and infectious electric guitar hooks. \nSURREALIZED (Seattle) \nSURREALIZED\, is a scintillating musical project by an ensemble of Seattle musicians who seemingly come from disparate disciplines. SURREALIZED harkens back to the synth-pop/wave fueled 80’s in one way\, but crunches along in a guitar driven romp in other ways\, while simultaneously drawing on dreamy\, electrobeat driven\, psychedelic anthems. \nDEEPEST DARKEST \nFormerly of The Carolines\, Nate Purscelley has joined forces with Nat Johnson of Derby to form Deepest Darkest\, a band grounded in rock history. Tom Petty\, Led Zeppelin\, Simon & Garfunkel are few of the influences\, and the vibe is classic.
URL:https://deepest-darkest.com/shows/the-library-at-growlers-taproom-with-the-breaking/
LOCATION:The Library at Growler’s Taproom\, 3343 SE Hawthorne Blvd.\, Portland\, OR\, 97214\, United States
ORGANIZER;CN="Deepest Darkest":MAILTO:secrets@deepest-darkest.com
END:VEVENT
BEGIN:VEVENT
DTSTART;TZID=America/Los_Angeles:20190322T210000
DTEND;TZID=America/Los_Angeles:20190322T233000
DTSTAMP:20260421T205225
CREATED:20181019T061817Z
LAST-MODIFIED:20190401T232711Z
UID:84-1553288400-1553297400@deepest-darkest.com
SUMMARY:EP No. 2 Release Rock at Secret Society with Camp Crush and Subways on the Sun
DESCRIPTION:Huge rock show with Portland icons\, Camp Crush and Seattle gods\, Subways on the Sun. We’ll be debuting our new album\, EP No. 2!
URL:https://deepest-darkest.com/shows/rock-at-secret-society-with-camp-crush/
LOCATION:Secret Society\, 116 NE Russell St\,\, Portland\, OR\, 97212\, United States
END:VEVENT
BEGIN:VEVENT
DTSTART;TZID=America/Los_Angeles:20190118T210000
DTEND;TZID=America/Los_Angeles:20190118T233000
DTSTAMP:20260421T205225
CREATED:20181019T061641Z
LAST-MODIFIED:20190103T164007Z
UID:82-1547845200-1547854200@deepest-darkest.com
SUMMARY:Live at Alberta Street with The Frequence and Coby Brown
DESCRIPTION:21+ only. Wow\, our first show in a while! You will want to be there. Hot new lineup\, and lots of new tunes. Sharing the bill with us is Los Angeles-based singer/songwriter Coby Brown\, and Portland friends\, The Frequence.
URL:https://deepest-darkest.com/shows/live-at-alberta-street/
LOCATION:Alberta Street Pub\, 1036 NE Alberta St.\, Portland\, OR\, 97211\, United States
END:VEVENT
END:VCALENDAR