BEGIN:VCALENDAR
VERSION:2.0
PRODID:-//Deepest Darkest: Rock Music - ECPv6.15.20//NONSGML v1.0//EN
CALSCALE:GREGORIAN
METHOD:PUBLISH
X-ORIGINAL-URL:https://deepest-darkest.com
X-WR-CALDESC:Events for Deepest Darkest: Rock Music
REFRESH-INTERVAL;VALUE=DURATION:PT1H
X-Robots-Tag:noindex
X-PUBLISHED-TTL:PT1H
BEGIN:VTIMEZONE
TZID:America/Los_Angeles
BEGIN:DAYLIGHT
TZOFFSETFROM:-0800
TZOFFSETTO:-0700
TZNAME:PDT
DTSTART:20200308T100000
END:DAYLIGHT
BEGIN:STANDARD
TZOFFSETFROM:-0700
TZOFFSETTO:-0800
TZNAME:PST
DTSTART:20201101T090000
END:STANDARD
BEGIN:DAYLIGHT
TZOFFSETFROM:-0800
TZOFFSETTO:-0700
TZNAME:PDT
DTSTART:20210314T100000
END:DAYLIGHT
BEGIN:STANDARD
TZOFFSETFROM:-0700
TZOFFSETTO:-0800
TZNAME:PST
DTSTART:20211107T090000
END:STANDARD
BEGIN:DAYLIGHT
TZOFFSETFROM:-0800
TZOFFSETTO:-0700
TZNAME:PDT
DTSTART:20220313T100000
END:DAYLIGHT
BEGIN:STANDARD
TZOFFSETFROM:-0700
TZOFFSETTO:-0800
TZNAME:PST
DTSTART:20221106T090000
END:STANDARD
END:VTIMEZONE
BEGIN:VEVENT
DTSTART;TZID=America/Los_Angeles:20210206T190000
DTEND;TZID=America/Los_Angeles:20210206T200000
DTSTAMP:20260422T125822
CREATED:20210204T203850Z
LAST-MODIFIED:20220405T012212Z
UID:546-1612638000-1612641600@deepest-darkest.com
SUMMARY:Nat and Nate on Facebook Live
DESCRIPTION:Going live on Facebook for a Nat and Nate Deepest Darkest Duo acoustic set. Tune in and have some fun with us!
URL:https://deepest-darkest.com/shows/nat-and-nate-on-facebook-live/
LOCATION:Facebook Live
CATEGORIES:Livestream
ORGANIZER;CN="Deepest Darkest":MAILTO:secrets@deepest-darkest.com
END:VEVENT
END:VCALENDAR